BEGIN:VCALENDAR
VERSION:2.0
CALSCALE:GREGORIAN
PRODID:UW-Madison-Physics-Events
BEGIN:VEVENT
SEQUENCE:0
UID:UW-Physics-Event-2009
DTSTART:20101025T170500Z
DURATION:PT1H0M0S
DTSTAMP:20260421T222058Z
LAST-MODIFIED:20101021T142813Z
LOCATION:2535 Engineering Hall
SUMMARY:Pedestal Turbulence Dynamics in ELMing and ELM-free H-Mode Pla
 smas\, Plasma Physics (Physics/ECE/NE 922) Seminar\, Zheng Yan\, Gener
 al Atomics
DESCRIPTION:
URL:https://www.physics.wisc.edu/events/?id=2009
END:VEVENT
END:VCALENDAR
