BEGIN:VCALENDAR
VERSION:2.0
CALSCALE:GREGORIAN
PRODID:UW-Madison-Physics-Events
BEGIN:VEVENT
SEQUENCE:0
UID:UW-Physics-Event-2011
DTSTART:20101101T210000Z
DURATION:PT1H0M0S
DTSTAMP:20260422T204548Z
LAST-MODIFIED:20101021T143507Z
LOCATION:514 ERB
SUMMARY:Nonlinear Evolution of Edge Localized MHD Instabilities:  A Co
 mparison of Ballooning and Peeling-Dominated Equilibria\, Plasma Theor
 y Seminar\, Bonnie Burke\, UW-Madison Dept. of Physcs
DESCRIPTION:
URL:https://www.physics.wisc.edu/events/?id=2011
END:VEVENT
END:VCALENDAR
