BEGIN:VCALENDAR
VERSION:2.0
CALSCALE:GREGORIAN
PRODID:UW-Madison-Physics-Events
BEGIN:VEVENT
SEQUENCE:0
UID:UW-Physics-Event-2028
DTSTART:20101213T180000Z
DURATION:PT1H0M0S
DTSTAMP:20260422T154512Z
LAST-MODIFIED:20101124T190644Z
LOCATION:2535 Engineering Hall
SUMMARY:The Surprising? Effect of Lithium Wall Coatings on Edge Profil
 es\, Transport and ELM Stability in NSTX\, Plasma Physics (Physics/ECE
 /NE 922) Seminar\, Rajesh Maingi\, Oak Ridge National Laboratory
DESCRIPTION:
URL:https://www.physics.wisc.edu/events/?id=2028
END:VEVENT
END:VCALENDAR
