BEGIN:VCALENDAR
VERSION:2.0
CALSCALE:GREGORIAN
PRODID:UW-Madison-Physics-Events
BEGIN:VEVENT
SEQUENCE:0
UID:UW-Physics-Event-2151
DTSTART:20110418T170500Z
DURATION:PT1H0M0S
DTSTAMP:20260419T143005Z
LAST-MODIFIED:20110324T191123Z
LOCATION:2241 Chamberlin Hall
SUMMARY:How the Tail Wags the Dog:  Understanding the Physics of the H
 -Mode Pedestal and ELMs in Tokamaks\, Plasma Physics (Physics/ECE/NE 9
 22) Seminar\, Phil Snyder\, General Atomics
DESCRIPTION:
URL:https://www.physics.wisc.edu/events/?id=2151
END:VEVENT
END:VCALENDAR
