BEGIN:VCALENDAR
VERSION:2.0
CALSCALE:GREGORIAN
PRODID:UW-Madison-Physics-Events
BEGIN:VEVENT
SEQUENCE:0
UID:UW-Physics-Event-2170
DTSTART:20110419T200000Z
DURATION:PT1H0M0S
DTSTAMP:20260419T142711Z
LAST-MODIFIED:20110418T030624Z
LOCATION:4274 Chamberlin Hall
SUMMARY:China Jinping underground lab and the PANDAX dark matter exper
 iment\, High Energy Seminar\, Xiang Liu
DESCRIPTION:China Jinping underground laboratory is located in Sichuan
  China. It<br>\nis built in the middle of a transporting tunnel of a 
 hydropower plant.<br>\nWith an overburden of more than 7000 m.w.e.\, 
 it is among the deepest<br>\nunderground laboratory in the world. Two
  dark matter experiments are planed at the underground lab\, one is th
 e CDEX (China Darkmatter EXperiment) utilizing point-contact HPGe dete
 ctors\, another is the PANDAX (Particle AND Astroparticle Xenon observ
 atory) using two-phase Xenon technique.  I will give a review of the J
 inping underground lab and the PANDAX experiment.
URL:https://www.physics.wisc.edu/events/?id=2170
END:VEVENT
END:VCALENDAR
