BEGIN:VCALENDAR
VERSION:2.0
CALSCALE:GREGORIAN
PRODID:UW-Madison-Physics-Events
BEGIN:VEVENT
SEQUENCE:0
UID:UW-Physics-Event-2172
DTSTART:20110422T193000Z
DTEND:20110422T203500Z
DTSTAMP:20260419T142742Z
LAST-MODIFIED:20110421T170945Z
LOCATION:5280 Chamberlin Hall
SUMMARY:News from ν's: Interpretations of Recent Neutrino Anomalies\,
  Theory/Phenomenology Seminar\, Joachim Kopp\, Fermilab
DESCRIPTION:
URL:https://www.physics.wisc.edu/events/?id=2172
END:VEVENT
END:VCALENDAR
