BEGIN:VCALENDAR
VERSION:2.0
CALSCALE:GREGORIAN
PRODID:UW-Madison-Physics-Events
BEGIN:VEVENT
SEQUENCE:0
UID:UW-Physics-Event-2210
DTSTART:20111006T223000Z
DURATION:PT1H0M0S
DTSTAMP:20260420T152909Z
LAST-MODIFIED:20110824T175803Z
LOCATION:2223 Chamberlin Hall
SUMMARY:Condensed Matter Theory Seminar\, Graduate Introductory Semina
 r\, Chubukov\, Coppersmith\, Joynt\, Perkins\, Vavilov
DESCRIPTION:
URL:https://www.physics.wisc.edu/events/?id=2210
END:VEVENT
END:VCALENDAR
