BEGIN:VCALENDAR
VERSION:2.0
CALSCALE:GREGORIAN
PRODID:UW-Madison-Physics-Events
BEGIN:VEVENT
SEQUENCE:0
UID:UW-Physics-Event-3062
DTSTART:20131211T181500Z
DURATION:PT1H0M0S
DTSTAMP:20260419T113637Z
LAST-MODIFIED:20130903T185807Z
LOCATION:5310 Chamberlin Hall
SUMMARY:Department Meeting
DESCRIPTION:
URL:https://www.physics.wisc.edu/events/?id=3062
END:VEVENT
END:VCALENDAR
