BEGIN:VCALENDAR
VERSION:2.0
CALSCALE:GREGORIAN
PRODID:UW-Madison-Physics-Events
BEGIN:VEVENT
SEQUENCE:0
UID:UW-Physics-Event-3119
DTSTART:20131014T213000Z
DURATION:PT1H0M0S
DTSTAMP:20260420T025514Z
LAST-MODIFIED:20131011T173741Z
LOCATION:Chamberin 5310
SUMMARY:Composite Scattering and Transport in a 2D Fermi Liquid near A
 utiferromagnetic Critical Point\, Condensed Matter Theory Group Semina
 r\, Andrey Chubukov\, Physics Department
DESCRIPTION:
URL:https://www.physics.wisc.edu/events/?id=3119
END:VEVENT
END:VCALENDAR
