BEGIN:VCALENDAR
VERSION:2.0
CALSCALE:GREGORIAN
PRODID:UW-Madison-Physics-Events
BEGIN:VEVENT
SEQUENCE:0
UID:UW-Physics-Event-3912
DTSTART:20160212T213000Z
DTEND:20160212T223000Z
DTSTAMP:20260424T104832Z
LAST-MODIFIED:20160121T150743Z
LOCATION:2241 Chamberlin Hall
SUMMARY:Deciphering IceCube’s High-Energy Neutrinos\, Physics Depart
 ment Colloquium\, Marek Kowalski\, Humboldt University Berlin & DESY Z
 euthen
DESCRIPTION:The existence of high energy neutrinos of cosmic origin wa
 s discovered by IceCube in 2013\, opening a new window to the cosmos. 
 Since then much has been learned about their properties\, however\, th
 e astrophysical sources of the neutrinos remain unresolved so far. In 
 this talk I will summarize the knowns and unknowns concerning IceCube'
 s neutrinos and how advances in multi-messenger astronomy can help sol
 ve the puzzle. Plans for a next-generation IceCube detector\, named Ic
 eCube-Gen2\, will be presented.
URL:https://www.physics.wisc.edu/events/?id=3912
END:VEVENT
END:VCALENDAR
