BEGIN:VCALENDAR
VERSION:2.0
CALSCALE:GREGORIAN
PRODID:UW-Madison-Physics-Events
BEGIN:VEVENT
SEQUENCE:0
UID:UW-Physics-Event-4128
DTSTART:20160318T160000Z
DURATION:PT1H0M0S
DTSTAMP:20260420T192107Z
LAST-MODIFIED:20160316T185948Z
LOCATION:5310 Chamberlin Hall
SUMMARY:Atomic Hong-Ou-Mandel effect: a mile-stone in Quantum Atom Opt
 ics\, Atomic Physics Seminar\, Alain Aspect\,  Institut d’Optique
DESCRIPTION:Atomic Hong-Ou-Mandel effect: a mile-stone in Quantum Atom
  Optics
URL:https://www.physics.wisc.edu/events/?id=4128
END:VEVENT
END:VCALENDAR
