BEGIN:VCALENDAR
VERSION:2.0
CALSCALE:GREGORIAN
PRODID:UW-Madison-Physics-Events
BEGIN:VEVENT
SEQUENCE:0
UID:UW-Physics-Event-4131
DTSTART:20160318T153000Z
DTEND:20160318T150000Z
DTSTAMP:20260420T192142Z
LAST-MODIFIED:20160317T135750Z
LOCATION:4274 Chamberlin Hall
SUMMARY:Informal meeting with Fleming Crim\, Fleming Crim\, NSF
DESCRIPTION:Assistant Director of the NSF Math and Physical (MPS) will
  be here to have an informal discussion about trends at NSF.
URL:https://www.physics.wisc.edu/events/?id=4131
END:VEVENT
END:VCALENDAR
