BEGIN:VCALENDAR
VERSION:2.0
CALSCALE:GREGORIAN
PRODID:UW-Madison-Physics-Events
BEGIN:VEVENT
SEQUENCE:1
UID:UW-Physics-Event-5365
DTSTART:20200214T163000Z
DTEND:20200214T173000Z
DTSTAMP:20260422T032953Z
LAST-MODIFIED:20200210T180010Z
LOCATION:5280 Chamberlin Hall
SUMMARY:Emily Lichko Thesis Defense\, Thesis Defense\, Emily Lichko\, 
 Physics PhD Graduate Student
DESCRIPTION:Magnetic pumping as a source of particle heating
URL:https://www.physics.wisc.edu/events/?id=5365
END:VEVENT
END:VCALENDAR
