BEGIN:VCALENDAR
VERSION:2.0
CALSCALE:GREGORIAN
PRODID:UW-Madison-Physics-Events
BEGIN:VEVENT
SEQUENCE:5
UID:UW-Physics-Event-8501
DTSTART:20241004T203000Z
DTEND:20241004T213000Z
DTSTAMP:20260419T182205Z
LAST-MODIFIED:20240925T135651Z
LOCATION:Chamberlin 2241
SUMMARY:Blanchard Lecture: Physics of Climate and Atmospheric Carbon D
 ioxide Reduction (CDR)\, Physics Department Colloquium\, Washington Ta
 ylor\, MIT
DESCRIPTION:Human activity\, particularly the combustion of fossil fue
 ls to provide energy\, has led to a continued and well-measured increa
 se in levels of atmospheric carbon dioxide over the last century\, wit
 h increasing effects in recent decades.  Many approaches have been pro
 posed for reducing atmospheric carbon dioxide levels\, including chemi
 cal direct air capture (DAC)\, ocean alkalinity enhancement (OAE)\, en
 hanced rock weathering (ERW)\, and biology-based approaches.  Even wit
 h rapid emissions reductions\,  atmospheric carbon dioxide reduction (
 CDR) may be desirable to avoid excessive changes in Earth's surface te
 mperature and climate.  Fundamental physical constraints\, however\, i
 ndicate that such efforts will require extensive energy and/or materia
 l inputs.  This colloquium addresses these considerations from a physi
 cal science perspective.
URL:https://www.physics.wisc.edu/events/?id=8501
END:VEVENT
END:VCALENDAR
