BEGIN:VCALENDAR
VERSION:2.0
CALSCALE:GREGORIAN
PRODID:UW-Madison-Physics-Events
BEGIN:VEVENT
SEQUENCE:0
UID:UW-Physics-Event-8992
DTSTART:19900424T210000Z
DURATION:PT1H0M0S
DTSTAMP:20260421T032743Z
LAST-MODIFIED:20241106T203815Z
LOCATION:1301 Sterling
SUMMARY:Mack Lecture: John Bardeen April 24th\, 1990\, Physics Departm
 ent Colloquium\, John Bardeen
DESCRIPTION:
URL:https://www.physics.wisc.edu/events/?id=8992
END:VEVENT
END:VCALENDAR
