BEGIN:VCALENDAR
VERSION:2.0
CALSCALE:GREGORIAN
PRODID:UW-Madison-Physics-Events
BEGIN:VEVENT
SEQUENCE:1
UID:UW-Physics-Event-9499
DTSTART:20061110T213000Z
DTEND:20061111T000000Z
DTSTAMP:20260423T155702Z
LAST-MODIFIED:20251117T170657Z
LOCATION:2241 Chamberlin
SUMMARY:Geophysics is a Branch of Physics:-or -What Does a Physicist D
 o In a Multi-national Oil & Gas Company?\, Physics Department Colloqui
 um\, Tom Holley\, Shell Oil Co.
DESCRIPTION:
URL:https://www.physics.wisc.edu/events/?id=9499
END:VEVENT
END:VCALENDAR
